BEGIN:VCALENDAR
VERSION:2.0
PRODID:icalendar-ruby
CALSCALE:GREGORIAN
METHOD:PUBLISH
BEGIN:VEVENT
DTSTAMP:20260423T223657Z
UID:45-1929125@redeemerlutherangreer.com
DTSTART:20260930T140000Z
DTEND:20260930T160000Z
CLASS:PUBLIC
CREATED:20260423T162950
DESCRIPTION:
LAST-MODIFIED:20260423T162950
LOCATION:
SUMMARY:Wednesday Word Bible Study
URL;VALUE=URI:https://redeemerlutherangreer.com/events/wednesday-word-bible
 -study/2026-09-30
ATTACH;FILENAME=bible_crosses-27.jpg;FMTTYPE=image/jpeg:https://dq5pwpg1q8r
 u0.cloudfront.net/2023/04/21/18/10/26/7629a708-ec1e-4e35-b413-af22431e0328
 /bible_crosses-27.jpg
END:VEVENT
END:VCALENDAR
