BEGIN:VCALENDAR
VERSION:2.0
PRODID:icalendar-ruby
CALSCALE:GREGORIAN
METHOD:PUBLISH
BEGIN:VEVENT
DTSTAMP:20260423T085829Z
UID:158-1579189@redeemerlutherangreer.com
DTSTART:20260531T200000Z
DTEND:20260531T220000Z
CLASS:PUBLIC
CREATED:20260304T154643
DESCRIPTION:Please join us for our VBS Kickoff Cookout in the Picnic Shelte
 r where we will enjoy picnic foods and games!
LAST-MODIFIED:20260304T154643
LOCATION:
SUMMARY:VBS 2026 Kickoff Cookout
URL;VALUE=URI:https://redeemerlutherangreer.com/events/vbs-2026-kickoff-coo
 kout/2026-05-31
END:VEVENT
END:VCALENDAR
