BEGIN:VCALENDAR
VERSION:2.0
PRODID:icalendar-ruby
CALSCALE:GREGORIAN
METHOD:PUBLISH
BEGIN:VEVENT
DTSTAMP:20260423T100745Z
UID:164-1616102@redeemerlutherangreer.com
DTSTART;VALUE=DATE:20260712
DTEND;VALUE=DATE:20260717
CLASS:PUBLIC
CREATED:20260309T203611
DESCRIPTION:
LAST-MODIFIED:20260309T203611
LOCATION:
SUMMARY:Gathering Expedition at Lutheridge
URL;VALUE=URI:https://redeemerlutherangreer.com/events/gathering-expedition
 -at-lutheridge/2026-07-12
ATTACH;FILENAME=Faith-In-Motion-1.png;FMTTYPE=image/png:https://dq5pwpg1q8r
 u0.cloudfront.net/2026/03/10/00/35/30/e99eb61b-393a-4d53-b9a4-de80c4a0b5b6
 /Faith-In-Motion-1.png
ATTACH;FILENAME=Faith-In-Motion-2.png;FMTTYPE=image/png:https://dq5pwpg1q8r
 u0.cloudfront.net/2026/03/10/00/35/30/21782422-42b3-419e-b6f9-8b3ba81bc3c2
 /Faith-In-Motion-2.png
END:VEVENT
END:VCALENDAR
